BEGIN:VCALENDAR
VERSION:2.0
PRODID:-//gyrobase/iCalendar//NONSGML v1.0//EN
BEGIN:VEVENT
LOCATION:825 E. 9th St. Pier\,Cleveland\, \,Cleveland\, OH\, 44114
DTSTART;VALUE=DATE:20260623
DTEND;VALUE=DATE:20260624
SUMMARY:Reggae on the Water 2026
DESCRIPTION:As part of a concert dubbed Reggae on the Water\, Carlos Jones & the P.L.U.S. Band (te Peace\, Love\, Unity Syndicate) will perform this special show on the Goodtime III. The boat will leave the dock at 8 p.m. and return at 10:30 p.m.
LOCATION;ALTREP="https://www.clevescene.com/location/goodtime-iii-1431673":<i>Goodtime III</i> @ 825 E. 9th St. Pier\,Cleveland\,OH  44114
CATEGORIES:Seasonal Special Happenings
END:VEVENT
END:VCALENDAR