BEGIN:VCALENDAR
VERSION:2.0
PRODID:-//gyrobase/iCalendar//NONSGML v1.0//EN
BEGIN:VEVENT
LOCATION:1153 Main Ave\,Cleveland\, \,Cleveland\, OH\, 44113
DTSTART:20260605T193000
DTEND:20260605T203000
SUMMARY:Lady Caroline Wine Tasting
DESCRIPTION:Sample a curated selection of 14 red\, white\, rose and sparkling wines from a range of vineyards\, complete with expert tasting notes. This is not buffet dinner\, but will feature thoughtfully paired small bites including a charcuterie station alongside a selection of more substantial food offerings. Price: 77.16
LOCATION;ALTREP="https://www.clevescene.com/location/lady-caroline-42441150":Lady Caroline @ 1153 Main Ave\,Cleveland\,OH  44113
CATEGORIES:Food/Drink
END:VEVENT
END:VCALENDAR