BEGIN:VCALENDAR
VERSION:2.0
PRODID:-//gyrobase/iCalendar//NONSGML v1.0//EN
BEGIN:VEVENT
LOCATION:1615 Euclid Ave.\,Cleveland\, \,Cleveland\, OH\, 44115
DTSTART:20270307T130000
DTEND:20270307T160000
RRULE:FREQ=WEEKLY;INTERVAL=1;UNTIL=20270321;BYDAY=SU
SUMMARY:Maybe Happy Ending
DESCRIPTION:Winner of 6 Tony Awards\, including Best Musical\, Maybe Happy Ending tells the deeply human story of a chance encounter that sparks connection\, adventure\, and maybe even love. Helmed by Tony Award-winning director Michael Arden (Parade)\, Maybe Happy Ending has been called “one of the best musicals in years” (USA Today) and even “The best musical in eons!” (Observer). Don’t miss the totally original new musical adventure that explores what it means to be human. Even if they’re not.
LOCATION;ALTREP="https://www.clevescene.com/location/connor-palace-1431949":Connor Palace @ 1615 Euclid Ave.\,Cleveland\,OH  44115
CATEGORIES:Theatrical Events
END:VEVENT
BEGIN:VEVENT
LOCATION:1615 Euclid Ave.\,Cleveland\, \,Cleveland\, OH\, 44115
DTSTART:20270307T183000
DTEND:20270307T213000
RRULE:FREQ=WEEKLY;INTERVAL=1;UNTIL=20270321;BYDAY=SU
SUMMARY:Maybe Happy Ending
DESCRIPTION:Winner of 6 Tony Awards\, including Best Musical\, Maybe Happy Ending tells the deeply human story of a chance encounter that sparks connection\, adventure\, and maybe even love. Helmed by Tony Award-winning director Michael Arden (Parade)\, Maybe Happy Ending has been called “one of the best musicals in years” (USA Today) and even “The best musical in eons!” (Observer). Don’t miss the totally original new musical adventure that explores what it means to be human. Even if they’re not.
LOCATION;ALTREP="https://www.clevescene.com/location/connor-palace-1431949":Connor Palace @ 1615 Euclid Ave.\,Cleveland\,OH  44115
CATEGORIES:Theatrical Events
END:VEVENT
BEGIN:VEVENT
LOCATION:1615 Euclid Ave.\,Cleveland\, \,Cleveland\, OH\, 44115
DTSTART:20270306T133000
DTEND:20270306T163000
RRULE:FREQ=WEEKLY;INTERVAL=1;UNTIL=20270321;BYDAY=SA
SUMMARY:Maybe Happy Ending
DESCRIPTION:Winner of 6 Tony Awards\, including Best Musical\, Maybe Happy Ending tells the deeply human story of a chance encounter that sparks connection\, adventure\, and maybe even love. Helmed by Tony Award-winning director Michael Arden (Parade)\, Maybe Happy Ending has been called “one of the best musicals in years” (USA Today) and even “The best musical in eons!” (Observer). Don’t miss the totally original new musical adventure that explores what it means to be human. Even if they’re not.
LOCATION;ALTREP="https://www.clevescene.com/location/connor-palace-1431949":Connor Palace @ 1615 Euclid Ave.\,Cleveland\,OH  44115
CATEGORIES:Theatrical Events
END:VEVENT
BEGIN:VEVENT
LOCATION:1615 Euclid Ave.\,Cleveland\, \,Cleveland\, OH\, 44115
DTSTART:20270302T193000
DTEND:20270302T223000
RRULE:FREQ=WEEKLY;INTERVAL=1;UNTIL=20270321;BYDAY=FR,SA,TH,TU,WE
SUMMARY:Maybe Happy Ending
DESCRIPTION:Winner of 6 Tony Awards\, including Best Musical\, Maybe Happy Ending tells the deeply human story of a chance encounter that sparks connection\, adventure\, and maybe even love. Helmed by Tony Award-winning director Michael Arden (Parade)\, Maybe Happy Ending has been called “one of the best musicals in years” (USA Today) and even “The best musical in eons!” (Observer). Don’t miss the totally original new musical adventure that explores what it means to be human. Even if they’re not.
LOCATION;ALTREP="https://www.clevescene.com/location/connor-palace-1431949":Connor Palace @ 1615 Euclid Ave.\,Cleveland\,OH  44115
CATEGORIES:Theatrical Events
END:VEVENT
END:VCALENDAR