BEGIN:VCALENDAR
VERSION:2.0
PRODID:-//gyrobase/iCalendar//NONSGML v1.0//EN
BEGIN:VEVENT
LOCATION:308 Euclid Ave.\,Cleveland\, \,Cleveland\, OH\, 44114
DTSTART:20261202T180000
DTEND:20261202T190000
SUMMARY:THE BOUNCING SOULS 'Born To Be Tour' with The Suicide Machines
DESCRIPTION:
LOCATION;ALTREP="https://www.clevescene.com/location/house-of-blues-1432461":House of Blues @ 308 Euclid Ave.\,Cleveland\,OH  44114
CATEGORIES:Rock & Pop
END:VEVENT
END:VCALENDAR