BEGIN:VCALENDAR
VERSION:2.0
PRODID:-//gyrobase/iCalendar//NONSGML v1.0//EN
BEGIN:VEVENT
LOCATION:15711 Waterloo Rd.\,Cleveland\, \,Cleveland\, OH
DTSTART;VALUE=DATE:20260425
DTEND;VALUE=DATE:20260426
SUMMARY:Burlesque! Burlesque!
DESCRIPTION:This burlesque show that takes place at 7:30 p.m. at Beachland Ballroom aims to celebrate "the golden age of burlesque" with performances and live singers.
LOCATION;ALTREP="https://www.clevescene.com/location/beachland-ballroom-2728914":Beachland Ballroom @ 15711 Waterloo Rd.\,Cleveland\,OH
CATEGORIES:DJ & Dance
END:VEVENT
END:VCALENDAR