BEGIN:VCALENDAR
VERSION:2.0
PRODID:-//gyrobase/iCalendar//NONSGML v1.0//EN
BEGIN:VEVENT
LOCATION:100 Alfred Lerner Way\,Cleveland\, \,Cleveland\, OH\, 44114
DTSTART:20260707T190000
DTEND:20260707T200000
SUMMARY:The R&B Tour - Starring Usher Raymond & Chris Brown
DESCRIPTION:
LOCATION;ALTREP="https://www.clevescene.com/location/huntington-bank-field-1432067":Huntington Bank Field @ 100 Alfred Lerner Way\,Cleveland\,OH  44114
CATEGORIES:On Tour
END:VEVENT
END:VCALENDAR