BEGIN:VCALENDAR
VERSION:2.0
PRODID:-//gyrobase/iCalendar//NONSGML v1.0//EN
BEGIN:VEVENT
LOCATION:175 E. Main St.\,Kent\, \,Kent\, OH\, 44240
DTSTART:20260604T193000
DTEND:20260604T203000
SUMMARY:Robert Earl Keen
DESCRIPTION:
LOCATION;ALTREP="https://www.clevescene.com/location/the-kent-stage-1432320":The Kent Stage @ 175 E. Main St.\,Kent\,OH  44240
CATEGORIES:Music Around Town
END:VEVENT
END:VCALENDAR