BEGIN:VCALENDAR
VERSION:2.0
PRODID:-//gyrobase/iCalendar//NONSGML v1.0//EN
BEGIN:VEVENT
LOCATION:25325 Fairmount Blvd.\,Beachwood\, \,Beachwood\, OH\, 44122
DTSTART:20260510T140000
DTEND:20260510T150000
SUMMARY:Beachwood Arts Council Presents Cleveland Orchestra Bass Quartet
DESCRIPTION:The Cleveland Orchestra Bass Quartet\, made up of Scott Dixon\, Derek Zadinsky\, Charles Paul\, and Mark Atherton\, are members of The Cleveland Orchestra’s double bass section. They explore a bass quartet repertoire that includes original works as well as arrangements of favorite classical pieces. Free and open to the public. Price: Free
LOCATION;ALTREP="https://www.clevescene.com/location/beachwood-community-center-1434620":Beachwood Community Center @ 25325 Fairmount Blvd.\,Beachwood\,OH  44122
CATEGORIES:Music Around Town
END:VEVENT
END:VCALENDAR