BEGIN:VCALENDAR
VERSION:2.0
PRODID:-//gyrobase/iCalendar//NONSGML v1.0//EN
BEGIN:VEVENT
LOCATION:25325 Fairmount Blvd.\,Beachwood\, \,Beachwood\, OH\, 44122
DTSTART;VALUE=DATE:20260530
DTEND;VALUE=DATE:20260531
RRULE:FREQ=DAILY;INTERVAL=1;UNTIL=20260712
SUMMARY:Beachwood Arts Council Presents Ohio Collage Society Member Exhibit
DESCRIPTION:Ohio Collage Society\, an organization founded by Gretchen Bierbaum\, seeks to educate the public about collage and to exhibit the work of collage artists in Ohio. The group’s work demonstrates the diversity in both concept and form that exemplifies contemporary approaches to the medium. Opening Reception: Saturday\, May 30\, 5-7 p.m Free and open to the public. Visit www.beachwoodartscouncil.prg for more information. Price: Free
LOCATION;ALTREP="https://www.clevescene.com/location/beachwood-community-center-1434620":Beachwood Community Center @ 25325 Fairmount Blvd.\,Beachwood\,OH  44122
CATEGORIES:Art Exhibits
END:VEVENT
END:VCALENDAR