BEGIN:VCALENDAR
VERSION:2.0
PRODID:-//gyrobase/iCalendar//NONSGML v1.0//EN
BEGIN:VEVENT
LOCATION:1415 Kenilworth Avenue\,Cleveland\, \,Cleveland\, OH\, 44113
DTSTART:20260507T183000
DTEND:20260507T203000
SUMMARY:Cake Friends: Paint & Sip
DESCRIPTION:Join us on May 7th in The Rosehip Room for a cake decorating workshop with our friends at Cake Friends. This workshop is beginner-friendly. Cake Friends will give a demo to teach you the skills needed to leave with a fabulous cake. All necessary tools will be available. The Rosehip Room's bar will be open and serving beer\, wine\, cocktails\, and soft drinks. Price: $75
LOCATION;ALTREP="https://www.clevescene.com/location/rosehip-room-at-the-elliot-41364737":Rosehip Room at The Elliot @ 1415 Kenilworth Avenue\,Cleveland\,OH  44113
CATEGORIES:Food/Drink
END:VEVENT
END:VCALENDAR