BEGIN:VCALENDAR
VERSION:2.0
PRODID:-//gyrobase/iCalendar//NONSGML v1.0//EN
BEGIN:VEVENT
LOCATION:1615 Euclid Ave.\,Cleveland\, \,Cleveland\, OH\, 44115
DTSTART:20270202T193000
DTEND:20270202T223000
RRULE:FREQ=WEEKLY;INTERVAL=1;UNTIL=20270221;BYDAY=FR,SA,TH,TU,WE
SUMMARY:BOOP! The Musical
DESCRIPTION:“What’s not to love about Betty Boop?” (Chicago Tribune) BOOP!® The Musical is the new Broadway musical-comedy extravaganza that brings the iconic Betty Boop® character to life like never before! When Betty dreams of an ordinary day off from superstardom\, she’s swept into a “bright and bubbly” (Time Out New York) adventure of color\, music\, and love in New York City. Directed and choreographed by Tony Award® winner Jerry Mitchell\, with songs by GRAMMY® winner David Foster\, lyrics by Tony Award® nominee Susan Birkenhead\, and a book by Tony Award® winner Bob Martin\, BOOP! is “a show-stopping rainbow of joy”
LOCATION;ALTREP="https://www.clevescene.com/location/connor-palace-4347035":Connor  Palace @ 1615 Euclid Ave.\,Cleveland\,OH  44115
CATEGORIES:Theatrical Events
END:VEVENT
BEGIN:VEVENT
LOCATION:1615 Euclid Ave.\,Cleveland\, \,Cleveland\, OH\, 44115
DTSTART:20270206T133000
DTEND:20270206T163000
RRULE:FREQ=WEEKLY;INTERVAL=1;UNTIL=20270221;BYDAY=SA
SUMMARY:BOOP! The Musical
DESCRIPTION:“What’s not to love about Betty Boop?” (Chicago Tribune) BOOP!® The Musical is the new Broadway musical-comedy extravaganza that brings the iconic Betty Boop® character to life like never before! When Betty dreams of an ordinary day off from superstardom\, she’s swept into a “bright and bubbly” (Time Out New York) adventure of color\, music\, and love in New York City. Directed and choreographed by Tony Award® winner Jerry Mitchell\, with songs by GRAMMY® winner David Foster\, lyrics by Tony Award® nominee Susan Birkenhead\, and a book by Tony Award® winner Bob Martin\, BOOP! is “a show-stopping rainbow of joy”
LOCATION;ALTREP="https://www.clevescene.com/location/connor-palace-4347035":Connor  Palace @ 1615 Euclid Ave.\,Cleveland\,OH  44115
CATEGORIES:Theatrical Events
END:VEVENT
BEGIN:VEVENT
LOCATION:1615 Euclid Ave.\,Cleveland\, \,Cleveland\, OH\, 44115
DTSTART:20270207T133000
DTEND:20270207T163000
RRULE:FREQ=WEEKLY;INTERVAL=1;UNTIL=20270221;BYDAY=SU
SUMMARY:BOOP! The Musical
DESCRIPTION:“What’s not to love about Betty Boop?” (Chicago Tribune) BOOP!® The Musical is the new Broadway musical-comedy extravaganza that brings the iconic Betty Boop® character to life like never before! When Betty dreams of an ordinary day off from superstardom\, she’s swept into a “bright and bubbly” (Time Out New York) adventure of color\, music\, and love in New York City. Directed and choreographed by Tony Award® winner Jerry Mitchell\, with songs by GRAMMY® winner David Foster\, lyrics by Tony Award® nominee Susan Birkenhead\, and a book by Tony Award® winner Bob Martin\, BOOP! is “a show-stopping rainbow of joy”
LOCATION;ALTREP="https://www.clevescene.com/location/connor-palace-4347035":Connor  Palace @ 1615 Euclid Ave.\,Cleveland\,OH  44115
CATEGORIES:Theatrical Events
END:VEVENT
BEGIN:VEVENT
LOCATION:1615 Euclid Ave.\,Cleveland\, \,Cleveland\, OH\, 44115
DTSTART:20270207T183000
DTEND:20270207T213000
RRULE:FREQ=WEEKLY;INTERVAL=1;UNTIL=20270221;BYDAY=SU
SUMMARY:BOOP! The Musical
DESCRIPTION:“What’s not to love about Betty Boop?” (Chicago Tribune) BOOP!® The Musical is the new Broadway musical-comedy extravaganza that brings the iconic Betty Boop® character to life like never before! When Betty dreams of an ordinary day off from superstardom\, she’s swept into a “bright and bubbly” (Time Out New York) adventure of color\, music\, and love in New York City. Directed and choreographed by Tony Award® winner Jerry Mitchell\, with songs by GRAMMY® winner David Foster\, lyrics by Tony Award® nominee Susan Birkenhead\, and a book by Tony Award® winner Bob Martin\, BOOP! is “a show-stopping rainbow of joy”
LOCATION;ALTREP="https://www.clevescene.com/location/connor-palace-4347035":Connor  Palace @ 1615 Euclid Ave.\,Cleveland\,OH  44115
CATEGORIES:Theatrical Events
END:VEVENT
END:VCALENDAR