BEGIN:VCALENDAR
VERSION:2.0
PRODID:-//gyrobase/iCalendar//NONSGML v1.0//EN
BEGIN:VEVENT
LOCATION:1615 Euclid Ave.\,Cleveland\, \,Cleveland\, OH\, 44115
DTSTART:20270105T193000
DTEND:20270105T223000
RRULE:FREQ=WEEKLY;INTERVAL=1;UNTIL=20270124;BYDAY=FR,SA,TH,TU,WE
SUMMARY:Mamma Mia!
DESCRIPTION:A mother. A daughter. 3 possible dads. And a trip down the aisle you’ll never forget! Set on a Greek island paradise where the sun always shines\, a tale of love\, friendship\, and identity is beautifully told through the timeless hits of ABBA. For over 25 years\, people all around the world have fallen in love with the characters\, the story\, and the music that make MAMMA MIA! the ultimate feel-good show.
LOCATION;ALTREP="https://www.clevescene.com/location/connor-palace-4347035":Connor  Palace @ 1615 Euclid Ave.\,Cleveland\,OH  44115
CATEGORIES:Theatrical Events
END:VEVENT
BEGIN:VEVENT
LOCATION:1615 Euclid Ave.\,Cleveland\, \,Cleveland\, OH\, 44115
DTSTART:20270109T133000
DTEND:20270109T163000
RRULE:FREQ=WEEKLY;INTERVAL=1;UNTIL=20270124;BYDAY=SA
SUMMARY:Mamma Mia!
DESCRIPTION:A mother. A daughter. 3 possible dads. And a trip down the aisle you’ll never forget! Set on a Greek island paradise where the sun always shines\, a tale of love\, friendship\, and identity is beautifully told through the timeless hits of ABBA. For over 25 years\, people all around the world have fallen in love with the characters\, the story\, and the music that make MAMMA MIA! the ultimate feel-good show.
LOCATION;ALTREP="https://www.clevescene.com/location/connor-palace-4347035":Connor  Palace @ 1615 Euclid Ave.\,Cleveland\,OH  44115
CATEGORIES:Theatrical Events
END:VEVENT
BEGIN:VEVENT
LOCATION:1615 Euclid Ave.\,Cleveland\, \,Cleveland\, OH\, 44115
DTSTART:20270110T130000
DTEND:20270110T160000
RRULE:FREQ=WEEKLY;INTERVAL=1;UNTIL=20270124;BYDAY=SU
SUMMARY:Mamma Mia!
DESCRIPTION:A mother. A daughter. 3 possible dads. And a trip down the aisle you’ll never forget! Set on a Greek island paradise where the sun always shines\, a tale of love\, friendship\, and identity is beautifully told through the timeless hits of ABBA. For over 25 years\, people all around the world have fallen in love with the characters\, the story\, and the music that make MAMMA MIA! the ultimate feel-good show.
LOCATION;ALTREP="https://www.clevescene.com/location/connor-palace-4347035":Connor  Palace @ 1615 Euclid Ave.\,Cleveland\,OH  44115
CATEGORIES:Theatrical Events
END:VEVENT
BEGIN:VEVENT
LOCATION:1615 Euclid Ave.\,Cleveland\, \,Cleveland\, OH\, 44115
DTSTART:20270110T183000
DTEND:20270110T213000
RRULE:FREQ=WEEKLY;INTERVAL=1;UNTIL=20270124;BYDAY=SU
SUMMARY:Mamma Mia!
DESCRIPTION:A mother. A daughter. 3 possible dads. And a trip down the aisle you’ll never forget! Set on a Greek island paradise where the sun always shines\, a tale of love\, friendship\, and identity is beautifully told through the timeless hits of ABBA. For over 25 years\, people all around the world have fallen in love with the characters\, the story\, and the music that make MAMMA MIA! the ultimate feel-good show.
LOCATION;ALTREP="https://www.clevescene.com/location/connor-palace-4347035":Connor  Palace @ 1615 Euclid Ave.\,Cleveland\,OH  44115
CATEGORIES:Theatrical Events
END:VEVENT
END:VCALENDAR