BEGIN:VCALENDAR
VERSION:2.0
PRODID:-//gyrobase/iCalendar//NONSGML v1.0//EN
BEGIN:VEVENT
LOCATION:2180B Lee Road\,Cleveland Heights\, \,Cleveland Heights\, OH\, 44118
DTSTART:20260425T190000
DTEND:20260425T210000
SUMMARY:CLE Urban Winery & Wick Life Candles Sip & Sync Couples /Besties Challenge *Grand Prize*
DESCRIPTION:Live Game Show Type Challenge (hosted experience) Candle Making Experience (create a custom candle together) Wine + Wine slushies available(1st/2nd glass on me) Individual Charcuterie Cups Funny\, real\, and slightly spicy questions Competitive scoring GRAND PRIZE! Price: 65 total for 2
LOCATION;ALTREP="https://www.clevescene.com/location/cle-urban-winery-4960608":CLE Urban Winery @ 2180B Lee Road\,Cleveland Heights\,OH  44118
CATEGORIES:Classes & Workshops
END:VEVENT
END:VCALENDAR