BEGIN:VCALENDAR
VERSION:2.0
PRODID:-//gyrobase/iCalendar//NONSGML v1.0//EN
BEGIN:VEVENT
LOCATION:11205 Euclid Ave.\,Cleveland Hts.\, \,Cleveland Hts.\, OH\, 44106
DTSTART:20260502T193000
DTEND:20260502T213000
SUMMARY:BlueWater Chamber Orchestra Concert with Soprano Midori Marsh
DESCRIPTION:BlueWater Chamber Orchestra\, under the baton of Artistic Director Daniel Meyer\, concludes its 16th season on Saturday\, May 2\, 2026\, at 7:30 pm at the Church of the Covenant\, 11205 Euclid Avenue\, Cleveland. The concert\, titled Rustic Reverie\, features soprano Midori Marsh performing Canteloube’s Songs of the Auvergne. Also included on the program are Moore’s Farm Journal and Haydn’s Symphony No. 99 in E-flat Major. Tickets for the concert are Pay-What-You-Wish and can be ordered at bluewaterorchestra.com or by calling 440-781-6215. They may also be purchased at the door. Free parking is available in the church lot\, Lot 54. Price: Pay-What-You-Wish\, $20 suggested
LOCATION;ALTREP="https://www.clevescene.com/location/church-of-the-covenant-1433492":Church of the Covenant @ 11205 Euclid Ave.\,Cleveland Hts.\,OH  44106
CATEGORIES:Classical Music
END:VEVENT
END:VCALENDAR