BEGIN:VCALENDAR
VERSION:2.0
PRODID:-//gyrobase/iCalendar//NONSGML v1.0//EN
BEGIN:VEVENT
LOCATION:1390 West 65th St.\,Cleveland\, \,Cleveland\, OH
DTSTART;VALUE=DATE:20260425
DTEND;VALUE=DATE:20260426
SUMMARY:Black Hand Side Video Premiere
DESCRIPTION:Local musician Trav Hen will debut the official music video for his single “Black Hand Side” at the Capitol Theatre. The event will run from 4 to 6:30 p.m. and will feature a music video screening\, a creative panel and a live performance. According to press materials\, "the video showcases a powerful blend of confidence\, brotherhood and soulful energy that reflects the spirit of Cleveland’s creative community."
LOCATION;ALTREP="https://www.clevescene.com/location/capitol-theatre-2472382":Capitol Theatre @ 1390 West 65th St.\,Cleveland\,OH
CATEGORIES:Seasonal Special Happenings
END:VEVENT
END:VCALENDAR