BEGIN:VCALENDAR
VERSION:2.0
PRODID:-//gyrobase/iCalendar//NONSGML v1.0//EN
BEGIN:VEVENT
LOCATION:4256 Pearl Road\,Old Brooklyn\, \,Old Brooklyn\, OH\, 44109
DTSTART:20260426T150000
DTEND:20260426T160000
SUMMARY:Dead Cassette\, To Kill A Monster\, God's End\, Crucigen\, NYX\, Moon Tipper
DESCRIPTION:
LOCATION;ALTREP="https://www.clevescene.com/location/next-to-mr-es-inn-4591684":Next to Mr. E's Inn @ 4256 Pearl Road\,Old Brooklyn\,OH  44109
CATEGORIES:Music Around Town
END:VEVENT
END:VCALENDAR