BEGIN:VCALENDAR
VERSION:2.0
PRODID:-//gyrobase/iCalendar//NONSGML v1.0//EN
BEGIN:VEVENT
LOCATION:1519 Euclid Ave.\,Cleveland\, \,Cleveland\, OH\, 44115
DTSTART:20260912T193000
DTEND:20260912T223000
RRULE:FREQ=WEEKLY;INTERVAL=1;UNTIL=20261003;BYDAY=FR,SA,TH,TU,WE
SUMMARY:Death Becomes Her
DESCRIPTION:Death Becomes Her is the Tony Award-winning drop-dead hilarious new musical comedy based on the classic 1992 film with direction and choreography by Tony winner Christopher Gattelli .Death Becomes Her is “a laugh-filled\, tuneful musical to die for” (Variety) and “a cheek-aching laughter roller coaster—the most fun night out!” See it now and laugh for eternity.
LOCATION;ALTREP="https://www.clevescene.com/location/keybank-state-theatre-1431520":KeyBank State Theatre @ 1519 Euclid Ave.\,Cleveland\,OH  44115
CATEGORIES:Theatrical Events
END:VEVENT
BEGIN:VEVENT
LOCATION:1519 Euclid Ave.\,Cleveland\, \,Cleveland\, OH\, 44115
DTSTART:20260913T130000
DTEND:20260913T160000
SUMMARY:Death Becomes Her
DESCRIPTION:Death Becomes Her is the Tony Award-winning drop-dead hilarious new musical comedy based on the classic 1992 film with direction and choreography by Tony winner Christopher Gattelli .Death Becomes Her is “a laugh-filled\, tuneful musical to die for” (Variety) and “a cheek-aching laughter roller coaster—the most fun night out!” See it now and laugh for eternity.
LOCATION;ALTREP="https://www.clevescene.com/location/keybank-state-theatre-1431520":KeyBank State Theatre @ 1519 Euclid Ave.\,Cleveland\,OH  44115
CATEGORIES:Theatrical Events
END:VEVENT
BEGIN:VEVENT
LOCATION:1519 Euclid Ave.\,Cleveland\, \,Cleveland\, OH\, 44115
DTSTART:20260913T183000
DTEND:20260913T213000
SUMMARY:Death Becomes Her
DESCRIPTION:Death Becomes Her is the Tony Award-winning drop-dead hilarious new musical comedy based on the classic 1992 film with direction and choreography by Tony winner Christopher Gattelli .Death Becomes Her is “a laugh-filled\, tuneful musical to die for” (Variety) and “a cheek-aching laughter roller coaster—the most fun night out!” See it now and laugh for eternity.
LOCATION;ALTREP="https://www.clevescene.com/location/keybank-state-theatre-1431520":KeyBank State Theatre @ 1519 Euclid Ave.\,Cleveland\,OH  44115
CATEGORIES:Theatrical Events
END:VEVENT
BEGIN:VEVENT
LOCATION:1519 Euclid Ave.\,Cleveland\, \,Cleveland\, OH\, 44115
DTSTART:20260919T133000
DTEND:20260919T163000
SUMMARY:Death Becomes Her
DESCRIPTION:Death Becomes Her is the Tony Award-winning drop-dead hilarious new musical comedy based on the classic 1992 film with direction and choreography by Tony winner Christopher Gattelli .Death Becomes Her is “a laugh-filled\, tuneful musical to die for” (Variety) and “a cheek-aching laughter roller coaster—the most fun night out!” See it now and laugh for eternity.
LOCATION;ALTREP="https://www.clevescene.com/location/keybank-state-theatre-1431520":KeyBank State Theatre @ 1519 Euclid Ave.\,Cleveland\,OH  44115
CATEGORIES:Theatrical Events
END:VEVENT
BEGIN:VEVENT
LOCATION:1519 Euclid Ave.\,Cleveland\, \,Cleveland\, OH\, 44115
DTSTART:20260920T130000
DTEND:20260920T160000
SUMMARY:Death Becomes Her
DESCRIPTION:Death Becomes Her is the Tony Award-winning drop-dead hilarious new musical comedy based on the classic 1992 film with direction and choreography by Tony winner Christopher Gattelli .Death Becomes Her is “a laugh-filled\, tuneful musical to die for” (Variety) and “a cheek-aching laughter roller coaster—the most fun night out!” See it now and laugh for eternity.
LOCATION;ALTREP="https://www.clevescene.com/location/keybank-state-theatre-1431520":KeyBank State Theatre @ 1519 Euclid Ave.\,Cleveland\,OH  44115
CATEGORIES:Theatrical Events
END:VEVENT
BEGIN:VEVENT
LOCATION:1519 Euclid Ave.\,Cleveland\, \,Cleveland\, OH\, 44115
DTSTART:20260920T183000
DTEND:20260920T213000
SUMMARY:Death Becomes Her
DESCRIPTION:Death Becomes Her is the Tony Award-winning drop-dead hilarious new musical comedy based on the classic 1992 film with direction and choreography by Tony winner Christopher Gattelli .Death Becomes Her is “a laugh-filled\, tuneful musical to die for” (Variety) and “a cheek-aching laughter roller coaster—the most fun night out!” See it now and laugh for eternity.
LOCATION;ALTREP="https://www.clevescene.com/location/keybank-state-theatre-1431520":KeyBank State Theatre @ 1519 Euclid Ave.\,Cleveland\,OH  44115
CATEGORIES:Theatrical Events
END:VEVENT
BEGIN:VEVENT
LOCATION:1519 Euclid Ave.\,Cleveland\, \,Cleveland\, OH\, 44115
DTSTART:20260926T133000
DTEND:20260926T163000
SUMMARY:Death Becomes Her
DESCRIPTION:Death Becomes Her is the Tony Award-winning drop-dead hilarious new musical comedy based on the classic 1992 film with direction and choreography by Tony winner Christopher Gattelli .Death Becomes Her is “a laugh-filled\, tuneful musical to die for” (Variety) and “a cheek-aching laughter roller coaster—the most fun night out!” See it now and laugh for eternity.
LOCATION;ALTREP="https://www.clevescene.com/location/keybank-state-theatre-1431520":KeyBank State Theatre @ 1519 Euclid Ave.\,Cleveland\,OH  44115
CATEGORIES:Theatrical Events
END:VEVENT
BEGIN:VEVENT
LOCATION:1519 Euclid Ave.\,Cleveland\, \,Cleveland\, OH\, 44115
DTSTART:20260927T130000
DTEND:20260927T160000
SUMMARY:Death Becomes Her
DESCRIPTION:Death Becomes Her is the Tony Award-winning drop-dead hilarious new musical comedy based on the classic 1992 film with direction and choreography by Tony winner Christopher Gattelli .Death Becomes Her is “a laugh-filled\, tuneful musical to die for” (Variety) and “a cheek-aching laughter roller coaster—the most fun night out!” See it now and laugh for eternity.
LOCATION;ALTREP="https://www.clevescene.com/location/keybank-state-theatre-1431520":KeyBank State Theatre @ 1519 Euclid Ave.\,Cleveland\,OH  44115
CATEGORIES:Theatrical Events
END:VEVENT
BEGIN:VEVENT
LOCATION:1519 Euclid Ave.\,Cleveland\, \,Cleveland\, OH\, 44115
DTSTART:20260927T183000
DTEND:20260927T213000
SUMMARY:Death Becomes Her
DESCRIPTION:Death Becomes Her is the Tony Award-winning drop-dead hilarious new musical comedy based on the classic 1992 film with direction and choreography by Tony winner Christopher Gattelli .Death Becomes Her is “a laugh-filled\, tuneful musical to die for” (Variety) and “a cheek-aching laughter roller coaster—the most fun night out!” See it now and laugh for eternity.
LOCATION;ALTREP="https://www.clevescene.com/location/keybank-state-theatre-1431520":KeyBank State Theatre @ 1519 Euclid Ave.\,Cleveland\,OH  44115
CATEGORIES:Theatrical Events
END:VEVENT
BEGIN:VEVENT
LOCATION:1519 Euclid Ave.\,Cleveland\, \,Cleveland\, OH\, 44115
DTSTART:20260930T133000
DTEND:20260930T163000
SUMMARY:Death Becomes Her
DESCRIPTION:Death Becomes Her is the Tony Award-winning drop-dead hilarious new musical comedy based on the classic 1992 film with direction and choreography by Tony winner Christopher Gattelli .Death Becomes Her is “a laugh-filled\, tuneful musical to die for” (Variety) and “a cheek-aching laughter roller coaster—the most fun night out!” See it now and laugh for eternity.
LOCATION;ALTREP="https://www.clevescene.com/location/keybank-state-theatre-1431520":KeyBank State Theatre @ 1519 Euclid Ave.\,Cleveland\,OH  44115
CATEGORIES:Theatrical Events
END:VEVENT
BEGIN:VEVENT
LOCATION:1519 Euclid Ave.\,Cleveland\, \,Cleveland\, OH\, 44115
DTSTART:20261003T133000
DTEND:20261003T163000
SUMMARY:Death Becomes Her
DESCRIPTION:Death Becomes Her is the Tony Award-winning drop-dead hilarious new musical comedy based on the classic 1992 film with direction and choreography by Tony winner Christopher Gattelli .Death Becomes Her is “a laugh-filled\, tuneful musical to die for” (Variety) and “a cheek-aching laughter roller coaster—the most fun night out!” See it now and laugh for eternity.
LOCATION;ALTREP="https://www.clevescene.com/location/keybank-state-theatre-1431520":KeyBank State Theatre @ 1519 Euclid Ave.\,Cleveland\,OH  44115
CATEGORIES:Theatrical Events
END:VEVENT
END:VCALENDAR