BEGIN:VCALENDAR
VERSION:2.0
PRODID:-//gyrobase/iCalendar//NONSGML v1.0//EN
BEGIN:VEVENT
LOCATION:15711 Waterloo Rd.\,Cleveland\, \,Cleveland\, OH
DTSTART;VALUE=DATE:20260429
DTEND;VALUE=DATE:20260430
SUMMARY:Gia Margaret
DESCRIPTION:The singer-songwriter comes to town in support of Singing\, her first vocal album since 2018’s There’s Always Glimmer. She recorded the album in London\, Eau Claire\, and Chicago with a little help from musical friends such as Guy Sigsworth\, David Bazan\, Amy Millan\, Deb Talan\, Kurt Vile and Sean Carey. She performs at 8 p.m. at the Beachland Tavern.
LOCATION;ALTREP="https://www.clevescene.com/location/beachland-tavern-2728908":Beachland Tavern @ 15711 Waterloo Rd.\,Cleveland\,OH
CATEGORIES:DJ & Dance
END:VEVENT
END:VCALENDAR