BEGIN:VCALENDAR
VERSION:2.0
PRODID:-//gyrobase/iCalendar//NONSGML v1.0//EN
BEGIN:VEVENT
LOCATION:35000 Portz Parkway\,Solon\, \,Solon\, OH\, 44139
DTSTART:20260425T180000
DTEND:20260425T210000
SUMMARY:Whiskers & Wishes: 50 Years of Purrs\, Tail Wags and Second Chances
DESCRIPTION:Calling all dog and cat lovers! Valley Save-a-Pet's 50th anniversary celebration! All proceeds go towards VSAP's mission to protect and care for animals in need. We will have delicious appetizers and sweet desserts\, cash bar\, raffle baskets\, discounted pet supplies\, swags bags and more! Learn all about the history of VSAP and how we help both the stray and owned animals of our community. Price: 25
LOCATION;ALTREP="https://www.clevescene.com/location/solon-community-center-7783061":Solon Community Center @ 35000 Portz Parkway\,Solon\,OH  44139
CATEGORIES:Fund-Raisers,Pets
END:VEVENT
END:VCALENDAR