BEGIN:VCALENDAR
VERSION:2.0
PRODID:-//gyrobase/iCalendar//NONSGML v1.0//EN
BEGIN:VEVENT
LOCATION:25501 Shaker Blvd.\,Beachwood\, \,Beachwood\, OH\, 44122
DTSTART:20260709T190000
DTEND:20260709T200000
SUMMARY:Author and Cartoonist Peter Kuper
DESCRIPTION:Join us when award winning author and cartoonist Peter Kuper visits to discuss his recent graphic novel\, "Insectopolis: A Natural History." Free to attend. Registration required. To register\, call 216-831-6868. Book sales and signing immediately after the event.
LOCATION;ALTREP="https://www.clevescene.com/location/cuyahoga-county-public-library-beachwood-branch-1432535":Cuyahoga County Public Library-Beachwood Branch @ 25501 Shaker Blvd.\,Beachwood\,OH  44122
CATEGORIES:Books\, Lit\, & Authors
END:VEVENT
END:VCALENDAR