BEGIN:VCALENDAR
VERSION:2.0
PRODID:-//gyrobase/iCalendar//NONSGML v1.0//EN
BEGIN:VEVENT
LOCATION:25501 Shaker Blvd.\,Beachwood\, \,Beachwood\, OH\, 44122
DTSTART:20260505T190000
DTEND:20260505T200000
SUMMARY:Author Alan Cohen
DESCRIPTION:Join us when author Dr. Alan Cohen\, pediatric neurosurgeon\, visits to discuss his memoir\, "Comfort Always: Healing in the Age of Technology." Free to attend. Registration required. To register\, call 216-831-6868. Book sales and signing to follow event.
LOCATION;ALTREP="https://www.clevescene.com/location/cuyahoga-county-public-library-beachwood-branch-1432535":Cuyahoga County Public Library-Beachwood Branch @ 25501 Shaker Blvd.\,Beachwood\,OH  44122
CATEGORIES:Books\, Lit\, & Authors
END:VEVENT
END:VCALENDAR