BEGIN:VCALENDAR
VERSION:2.0
PRODID:-//gyrobase/iCalendar//NONSGML v1.0//EN
BEGIN:VEVENT
LOCATION:21600 Shaker Blvd\,Shaker Heights\, \,Shaker Heights\, OH\, 44122
DTSTART;VALUE=DATE:20260522
DTEND;VALUE=DATE:20260523
SUMMARY:Heart of the Arts
DESCRIPTION:Von James\, a Cleveland-based singer and actress known for her powerful blend of jazz\, gospel and soul studied opera and jazz at Cleveland State University and has performed with numerous bands and artists throughout Northeast Ohio and beyond. She headlines tonight special Heart of the Arts program presented by the Shaker Arts Council at the Unitarian Universalist Congregation of Cleveland. The performance begins at 7 p.m.\, and a Q & A and meet and greet with the artists follows.
LOCATION;ALTREP="https://www.clevescene.com/location/unitarian-universalist-congregation-of-cleveland-30181699":Unitarian Universalist Congregation of Cleveland @ 21600 Shaker Blvd\,Shaker Heights\,OH  44122
CATEGORIES:Seasonal Special Happenings
END:VEVENT
END:VCALENDAR