BEGIN:VCALENDAR
VERSION:2.0
PRODID:-//gyrobase/iCalendar//NONSGML v1.0//EN
BEGIN:VEVENT
LOCATION:1884 Front St\,Cuyahoga Falls\, \,Cuyahoga Falls\, OH\, 44221
DTSTART:20260613T120000
DTEND:20260613T140000
SUMMARY:Matt Van Winkle & the Activateds
DESCRIPTION:Matt Van Winkle\, from Pittsburgh\, is a ceaseless songwriter with 6 albums of original songs since 2006. He's had placements in film and television\, and some very special experiences in front of audiences in NYC\, LA\, Joshua Tree\, and elsewhere. He's on a mission to find the songs that haven't been written yet\, and bring them about. He want my songs and music to help all people feel less alone. The Activateds are 2 aces\; expats from the Bay Area of California\, now based in Pittsburgh (Scotty Houston on bass and backup vocals\; Cory Aboud on drums). Price: Free
LOCATION;ALTREP="https://www.clevescene.com/location/jenks-building-1929-47754672":Jenks Building 1929 @ 1884 Front St\,Cuyahoga Falls\,OH  44221
CATEGORIES:Rock & Pop
END:VEVENT
END:VCALENDAR