BEGIN:VCALENDAR
VERSION:2.0
PRODID:-//gyrobase/iCalendar//NONSGML v1.0//EN
BEGIN:VEVENT
LOCATION:1215 West 10th St.\,Cleveland\, \,Cleveland\, OH
DTSTART:20260425T130000
DTEND:20260425T170000
SUMMARY:Feed the Dance Floor
DESCRIPTION:FEED THE DANCE FLOOR: "27 Club" POP UP DJ SET House + Dance Music To Dance To. A party pop-up party presented with SUNSETS. free admission come early and ready to dance! all are welcome! music by: borlini\, bobby booshay\, jason tepes\, nik ryan Price: Free
LOCATION;ALTREP="https://www.clevescene.com/location/27-club-coffee-41588556":27 Club Coffee @ 1215 West 10th St.\,Cleveland\,OH
CATEGORIES:DJ & Dance
END:VEVENT
END:VCALENDAR