BEGIN:VCALENDAR
VERSION:2.0
PRODID:-//gyrobase/iCalendar//NONSGML v1.0//EN
BEGIN:VEVENT
LOCATION:601 Erieside Ave.\,Cleveland\, \,Cleveland\, OH\, 44114
DTSTART:20260509T083000
DTEND:20260509T130000
SUMMARY:The Diversity Center's Community Festival and Walk
DESCRIPTION:The Diversity Center of Northeast Ohio (DCNEO) invites you\, your family\, and your neighbors to join us at the DCNEO Community Festival & Walk on Saturday\, May 9\, 2026. This year’s event returns to the Great Lakes Science Center. In addition to the Walk\, there will be family-friendly interactive activities on the plaza as well as free admission to the Great Lakes Science Center and discounted admission to the Rock and Roll Hall of Fame. • When: Saturday\, May 9\, 2026 • Where: Great Lakes Science Center • Time: 8:30 a.m. • Cost: FREE and open to the public
LOCATION;ALTREP="https://www.clevescene.com/location/great-lakes-science-center-1431462":Great Lakes Science Center @ 601 Erieside Ave.\,Cleveland\,OH  44114
CATEGORIES:Fairs/Festivals,Family & Kids,Fund-Raisers
END:VEVENT
END:VCALENDAR