BEGIN:VCALENDAR
VERSION:2.0
PRODID:-//gyrobase/iCalendar//NONSGML v1.0//EN
BEGIN:VEVENT
LOCATION:4700  Rihmond Road Suite 500\,Warrensville Heights\, \,Warrensville Heights\, OH\, 44128
DTSTART:20260501T190000
DTEND:20260501T210000
SUMMARY:Brazil in OHIO
DESCRIPTION:Rio Carnival Celebration! Cleveland Ballet Theatre presents Brazil in OHIO. Join us oaths day to listen to Brazilian music\, dance\, make friends and have fun! $20 per person. appetizers and drinks included. 4700 Richmond Road\, Suite 500\, Warrensville Heights\, OH 44128 Price: $20 per person
LOCATION;ALTREP="https://www.clevescene.com/location/cleveland-ballet-tehatre-47752772":Cleveland Ballet Tehatre @ 4700  Rihmond Road Suite 500\,Warrensville Heights\,OH  44128
CATEGORIES:Dance (Participatory)
END:VEVENT
END:VCALENDAR