BEGIN:VCALENDAR
VERSION:2.0
PRODID:-//gyrobase/iCalendar//NONSGML v1.0//EN
BEGIN:VEVENT
LOCATION:182 South Main St.\,Akron\, \,Akron\, OH\, 44308
DTSTART;VALUE=DATE:20260523
DTEND;VALUE=DATE:20260524
SUMMARY:The Birth of Punk in NEO
DESCRIPTION:Local publisher and musician Thomas Mulready presents this lecture and concert chronicling the birth of punk rock in Northeast Ohio. Regional punk acts such as the Bizarros\, the Mirrors\, Patty No!\, Vanity Crash/Queue Up and Massive Hotdog Recall are slated to perform. The event begins at 8 p.m. at the Akron Civic Theatre.
LOCATION;ALTREP="https://www.clevescene.com/location/akron-civic-theatre-1432128":Akron Civic Theatre @ 182 South Main St.\,Akron\,OH  44308
CATEGORIES:DJ & Dance
END:VEVENT
END:VCALENDAR