BEGIN:VCALENDAR
VERSION:2.0
PRODID:-//gyrobase/iCalendar//NONSGML v1.0//EN
BEGIN:VEVENT
LOCATION:11001 Euclid Ave.\,Cleveland\, \,Cleveland\, OH\, 44106
DTSTART;VALUE=DATE:20260523
DTEND;VALUE=DATE:20260524
SUMMARY:The Cleveland Orchestra Children's Choruses Spring Concert
DESCRIPTION:Expect to hear songs such as "Somewhere Over the Rainbow" and "Feeling Good" at this special patriotic concert featuring the Cleveland Orchestra's Children's Choruses. The concert begins at 4 p.m. at Mandel Concert Hall.
LOCATION;ALTREP="https://www.clevescene.com/location/severance-music-center-1432086":Severance Music Center @ 11001 Euclid Ave.\,Cleveland\,OH  44106
CATEGORIES:Seasonal Special Happenings
END:VEVENT
END:VCALENDAR