BEGIN:VCALENDAR
VERSION:2.0
PRODID:-//gyrobase/iCalendar//NONSGML v1.0//EN
BEGIN:VEVENT
LOCATION:11150 East Blvd.\,Cleveland\, \,Cleveland\, OH
DTSTART;VALUE=DATE:20260501
DTEND;VALUE=DATE:20260502
SUMMARY:MIX: Year of the Horse
DESCRIPTION:Cleveland Museum of Art kicks off Asian American and Pacific Islander (AAPI) Heritage Month with this special edition of MIX that features dance performances and house and techno sets by the likes of SceneAmatiX and Zosimo Maximo. There will also be themed food and drink specials. It all begins at 6 p.m.
LOCATION;ALTREP="https://www.clevescene.com/location/cleveland-museum-of-art-1431493":Cleveland Museum of Art @ 11150 East Blvd.\,Cleveland\,OH
CATEGORIES:DJ & Dance
END:VEVENT
END:VCALENDAR