BEGIN:VCALENDAR
VERSION:2.0
PRODID:-//gyrobase/iCalendar//NONSGML v1.0//EN
BEGIN:VEVENT
LOCATION:11150 East Blvd.\,Cleveland\, \,Cleveland\, OH
DTSTART;VALUE=DATE:20260519
DTEND;VALUE=DATE:20260520
SUMMARY:The Isidore String Quartet with Jeremy Denk
DESCRIPTION:This string quartet out of New York teams up with pianist Jeremy Dank\, who's known for his interpretations of Charles Ives's radical compositions. The concert begins at 7:30 p.m. at the Cleveland Museum of Art.
LOCATION;ALTREP="https://www.clevescene.com/location/cleveland-museum-of-art-1431493":Cleveland Museum of Art @ 11150 East Blvd.\,Cleveland\,OH
CATEGORIES:DJ & Dance
END:VEVENT
END:VCALENDAR