BEGIN:VCALENDAR
VERSION:2.0
PRODID:-//gyrobase/iCalendar//NONSGML v1.0//EN
BEGIN:VEVENT
LOCATION:11150 East Blvd.\,Cleveland\, \,Cleveland\, OH
DTSTART;VALUE=DATE:20260512
DTEND;VALUE=DATE:20260513
SUMMARY:Chamber Music in the Atrium with Piano Cleveland: Chaeyoung Park
DESCRIPTION:The Cleveland Museum of Art's regular chamber music series features pianist Chaeyoung Park\, an international sensation who's played at Carnegie Hall as well other renowned venues. The concert begins at noon. It's free.
LOCATION;ALTREP="https://www.clevescene.com/location/cleveland-museum-of-art-1431493":Cleveland Museum of Art @ 11150 East Blvd.\,Cleveland\,OH
CATEGORIES:Seasonal Special Happenings
END:VEVENT
END:VCALENDAR