BEGIN:VCALENDAR
VERSION:2.0
PRODID:-//gyrobase/iCalendar//NONSGML v1.0//EN
BEGIN:VEVENT
LOCATION:1261 W76th St\,Cleveland\, \,Cleveland\, Oh\, 44102
DTSTART:20260531T000000
DTEND:20260531T010000
SUMMARY:Henceforth Comedy Late Night
DESCRIPTION:Henceforth Comedy Late Night (formerly Secret Society) is an after-hours comedy show featuring nationally touring comedians and unannounced surprise guests—so you never know who you’ll see. Hosted in an intimate upstairs room at All Saints Public House in Battery Park\, the show feels like hanging out with your funniest friends and has become a must-stop spot for comedians passing through Cleveland. No two shows are ever the same. You’ll leave asking\, “How have I not heard of them?” and wishing your friends had been there. This is our final Late Night before our summer Cedar Point hiatus. Don't miss out! Price: $20-25
LOCATION;ALTREP="https://www.clevescene.com/location/all-saints-public-house-36451690":All Saints Public House @ 1261 W76th St\,Cleveland\,Oh  44102
CATEGORIES:Comedy,Food/Drink
END:VEVENT
BEGIN:VEVENT
LOCATION:1261 W76th St\,Cleveland\, \,Cleveland\, Oh\, 44102
DTSTART:20260530T233000
DTEND:20260530T235500
SUMMARY:Henceforth Comedy Late Night
DESCRIPTION:Henceforth Comedy Late Night (formerly Secret Society) is an after-hours comedy show featuring nationally touring comedians and unannounced surprise guests—so you never know who you’ll see. Hosted in an intimate upstairs room at All Saints Public House in Battery Park\, the show feels like hanging out with your funniest friends and has become a must-stop spot for comedians passing through Cleveland. No two shows are ever the same. You’ll leave asking\, “How have I not heard of them?” and wishing your friends had been there. This is our final Late Night before our summer Cedar Point hiatus. Don't miss out! Price: $20-25
LOCATION;ALTREP="https://www.clevescene.com/location/all-saints-public-house-36451690":All Saints Public House @ 1261 W76th St\,Cleveland\,Oh  44102
CATEGORIES:Comedy,Food/Drink
END:VEVENT
END:VCALENDAR