BEGIN:VCALENDAR
VERSION:2.0
PRODID:-//gyrobase/iCalendar//NONSGML v1.0//EN
BEGIN:VEVENT
LOCATION:11001 Euclid Ave.\,Cleveland\, \,Cleveland\, OH\, 44106
DTSTART;VALUE=DATE:20260517
DTEND;VALUE=DATE:20260518
SUMMARY:Courage and Poetry: An Afternoon with Tank Ball
DESCRIPTION:This special event featuring Tank Ball of Tank and the Bangas will highlight the lyricism on the group's 2024 release\, The Heart\, The Mind\, The Soul. Grammy-winning composer and trumpeter Terence Blanchard will join Ball for the performance.
LOCATION;ALTREP="https://www.clevescene.com/location/severance-music-center-1432086":Severance Music Center @ 11001 Euclid Ave.\,Cleveland\,OH  44106
CATEGORIES:Seasonal Special Happenings
END:VEVENT
END:VCALENDAR