BEGIN:VCALENDAR
VERSION:2.0
PRODID:-//gyrobase/iCalendar//NONSGML v1.0//EN
BEGIN:VEVENT
LOCATION:12210 Euclid Ave.\,Cleveland\, \,Cleveland\, OH\, 44106
DTSTART:20260425T120000
DTEND:20260425T130000
SUMMARY:Ling-lin Ku: Artist Talk and Tour
DESCRIPTION:Spend an hour with Ling-lin Ku for an artist talk and tour of her exhibition Morning After. We’ll have the opportunity to explore the exhibition more deeply through conversation with the artist and audience\, as Ku shares her inspirations\, the conceptual goals behind her work\, the techniques she uses in her creative process\, and the core themes that shape the exhibition. Price: Free\, Registration Required
LOCATION;ALTREP="https://www.clevescene.com/location/the-sculpture-center-42972292":The Sculpture Center @ 12210 Euclid Ave.\,Cleveland\,OH  44106
CATEGORIES:Art Exhibits
END:VEVENT
END:VCALENDAR