BEGIN:VCALENDAR
VERSION:2.0
PRODID:-//gyrobase/iCalendar//NONSGML v1.0//EN
BEGIN:VEVENT
LOCATION:2325 Elm St.\,Cleveland\, \,Cleveland\, OH\, 44113
DTSTART:20260515T193000
DTEND:20260515T203000
SUMMARY:Absolute Intense Wrestling
DESCRIPTION:
LOCATION;ALTREP="https://www.clevescene.com/location/globe-iron-1432228":Globe Iron @ 2325 Elm St.\,Cleveland\,OH  44113
CATEGORIES:Sports (Spectator)
END:VEVENT
END:VCALENDAR