BEGIN:VCALENDAR
VERSION:2.0
PRODID:-//gyrobase/iCalendar//NONSGML v1.0//EN
BEGIN:VEVENT
LOCATION:11150 East Blvd.\,Cleveland\, \,Cleveland\, OH
DTSTART;VALUE=DATE:20260508
DTEND;VALUE=DATE:20260509
SUMMARY:Martin Puryear: Reflections in Movement\, Music\, and Words
DESCRIPTION:This event at Cleveland Museum of Art will feature music\, art and poetry that corresponds to the works on display in the CMA exhibit Martin Puryear: Nexus. Pianist/composer Donal Fox\, balafon master Famoro Dioubaté\, dancers and musicians from Djapo Cultural Arts Institute\, Kora virtuoso Mady Kouyaye\, and Oberlin College Taiko are all set to perform. The event begins at 7:30 p.m.
LOCATION;ALTREP="https://www.clevescene.com/location/cleveland-museum-of-art-1431493":Cleveland Museum of Art @ 11150 East Blvd.\,Cleveland\,OH
CATEGORIES:Seasonal Special Happenings
END:VEVENT
END:VCALENDAR