BEGIN:VCALENDAR
VERSION:2.0
PRODID:-//gyrobase/iCalendar//NONSGML v1.0//EN
BEGIN:VEVENT
LOCATION:11150 East Blvd.\,Cleveland\, \,Cleveland\, OH
DTSTART;VALUE=DATE:20260613
DTEND;VALUE=DATE:20260614
SUMMARY:Parade the Circle
DESCRIPTION:The theme for this annual event that takes place at Wade Oval outside of the Cleveland Museum of Art will center on "momentum" in conjunction with the current CMA exhibit American Printed Silks\, 1927-1947. Expect the usual assortment of creative floats\, puppets and masks. It takes place from noon to 4 p.m.
LOCATION;ALTREP="https://www.clevescene.com/location/cleveland-museum-of-art-1431493":Cleveland Museum of Art @ 11150 East Blvd.\,Cleveland\,OH
CATEGORIES:Seasonal Special Happenings
END:VEVENT
END:VCALENDAR