BEGIN:VCALENDAR
VERSION:2.0
PRODID:-//gyrobase/iCalendar//NONSGML v1.0//EN
BEGIN:VEVENT
LOCATION:15711 Waterloo Rd.\,Cleveland\, \,Cleveland\, OH
DTSTART;VALUE=DATE:20260508
DTEND;VALUE=DATE:20260509
SUMMARY:Pete Yorn
DESCRIPTION:The singer-songwriter brings his tour marking the 25th anniversary of his album musicforthemorningafter to the Beachland Ballroom. The show begins at 8 p.m.
LOCATION;ALTREP="https://www.clevescene.com/location/beachland-ballroom-2728914":Beachland Ballroom @ 15711 Waterloo Rd.\,Cleveland\,OH
CATEGORIES:Seasonal Special Happenings
END:VEVENT
END:VCALENDAR