BEGIN:VCALENDAR
VERSION:2.0
PRODID:-//gyrobase/iCalendar//NONSGML v1.0//EN
BEGIN:VEVENT
LOCATION:2108 S Taylor Rd\,Cleveland Heights\, \,Cleveland Heights\, OH\, 44118
DTSTART:20260627T150000
DTEND:20260627T163000
SUMMARY:Facing The College Essay
DESCRIPTION:Turn your story into your strongest application. Students receive guided support navigating college and scholarship essays – brainstorming\, drafting\, and refining personal narratives that reveal voice\, character\, and lived experience. Learn to tell a story that goes beyond grades and test scores. Price: $10 per session
LOCATION;ALTREP="https://www.clevescene.com/location/lake-erie-ink-45824664":Lake Erie Ink @ 2108 S Taylor Rd\,Cleveland Heights\,OH  44118
CATEGORIES:Classes & Workshops
END:VEVENT
BEGIN:VEVENT
LOCATION:2108 S Taylor Rd\,Cleveland Heights\, \,Cleveland Heights\, OH\, 44118
DTSTART:20260711T150000
DTEND:20260711T163000
SUMMARY:Facing The College Essay
DESCRIPTION:Turn your story into your strongest application. Students receive guided support navigating college and scholarship essays – brainstorming\, drafting\, and refining personal narratives that reveal voice\, character\, and lived experience. Learn to tell a story that goes beyond grades and test scores. Price: $10 per session
LOCATION;ALTREP="https://www.clevescene.com/location/lake-erie-ink-45824664":Lake Erie Ink @ 2108 S Taylor Rd\,Cleveland Heights\,OH  44118
CATEGORIES:Classes & Workshops
END:VEVENT
BEGIN:VEVENT
LOCATION:2108 S Taylor Rd\,Cleveland Heights\, \,Cleveland Heights\, OH\, 44118
DTSTART:20260801T150000
DTEND:20260801T163000
SUMMARY:Facing The College Essay
DESCRIPTION:Turn your story into your strongest application. Students receive guided support navigating college and scholarship essays – brainstorming\, drafting\, and refining personal narratives that reveal voice\, character\, and lived experience. Learn to tell a story that goes beyond grades and test scores. Price: $10 per session
LOCATION;ALTREP="https://www.clevescene.com/location/lake-erie-ink-45824664":Lake Erie Ink @ 2108 S Taylor Rd\,Cleveland Heights\,OH  44118
CATEGORIES:Classes & Workshops
END:VEVENT
BEGIN:VEVENT
LOCATION:2108 S Taylor Rd\,Cleveland Heights\, \,Cleveland Heights\, OH\, 44118
DTSTART:20260815T150000
DTEND:20260815T163000
SUMMARY:Facing The College Essay
DESCRIPTION:Turn your story into your strongest application. Students receive guided support navigating college and scholarship essays – brainstorming\, drafting\, and refining personal narratives that reveal voice\, character\, and lived experience. Learn to tell a story that goes beyond grades and test scores. Price: $10 per session
LOCATION;ALTREP="https://www.clevescene.com/location/lake-erie-ink-45824664":Lake Erie Ink @ 2108 S Taylor Rd\,Cleveland Heights\,OH  44118
CATEGORIES:Classes & Workshops
END:VEVENT
END:VCALENDAR