BEGIN:VCALENDAR
VERSION:2.0
PRODID:-//gyrobase/iCalendar//NONSGML v1.0//EN
BEGIN:VEVENT
LOCATION:2516 Market Ave.\,Cleveland\, \,Cleveland\, OH\, 44113
DTSTART:20260424T173000
DTEND:20260424T190000
SUMMARY:History Happy Hour
DESCRIPTION:Join us at the brewpub on the last Friday of each month for History Happy Hour! From 5:30-7PM\, grab a pint of your favorite GLBC beer and listen to our speaker share their knowledge. See below for a full list of dates and themes. Price: Free
LOCATION;ALTREP="https://www.clevescene.com/location/great-lakes-brewing-company-1431252":Great Lakes Brewing Company @ 2516 Market Ave.\,Cleveland\,OH  44113
CATEGORIES:Food/Drink
END:VEVENT
END:VCALENDAR