BEGIN:VCALENDAR
VERSION:2.0
PRODID:-//gyrobase/iCalendar//NONSGML v1.0//EN
BEGIN:VEVENT
LOCATION:1834 East 123rd St.\,Cleveland\, \,Cleveland\, OH\, 44106
DTSTART;VALUE=DATE:20260501
DTEND;VALUE=DATE:20260502
SUMMARY:AAWR Grand Re-opening Celebration and 2026 Annual Members Exhibition
DESCRIPTION:This yearly exhibition at the Artists Archives of the Western World features one piece from each of the gallery's active members in any medium\, including painting\, drawing\, photography\, sculpture\, assemblage\, digital art\, fine jewelry and textiles. This year’s exhibit coincides with the gallery's grand reopening following the complete remodel. The event takes place from 6 to 8 p.m.
LOCATION;ALTREP="https://www.clevescene.com/location/artists-archives-of-the-western-reserve-3604384":Artists Archives of the Western Reserve @ 1834 East 123rd St.\,Cleveland\,OH  44106
CATEGORIES:Seasonal Special Happenings
END:VEVENT
END:VCALENDAR