BEGIN:VCALENDAR
VERSION:2.0
PRODID:-//gyrobase/iCalendar//NONSGML v1.0//EN
BEGIN:VEVENT
LOCATION:East 1201 St. Clair East 6th\,Cleveland\, \,Cleveland\, OH\, 44114
DTSTART:20261108T150000
DTEND:20261108T160000
SUMMARY:NUTCRACKER! Magical Christmas Ballet
DESCRIPTION:
LOCATION;ALTREP="https://www.clevescene.com/location/music-hall-at-the-cleveland-public-auditorium-38698606":Music Hall at the Cleveland Public Auditorium @ East 1201 St. Clair East 6th\,Cleveland\,OH  44114
CATEGORIES:Dance Performances
END:VEVENT
BEGIN:VEVENT
LOCATION:East 1201 St. Clair East 6th\,Cleveland\, \,Cleveland\, OH\, 44114
DTSTART:20261108T160000
DTEND:20261108T170000
SUMMARY:NUTCRACKER! Magical Christmas Ballet
DESCRIPTION:
LOCATION;ALTREP="https://www.clevescene.com/location/music-hall-at-the-cleveland-public-auditorium-38698606":Music Hall at the Cleveland Public Auditorium @ East 1201 St. Clair East 6th\,Cleveland\,OH  44114
CATEGORIES:Dance Performances
END:VEVENT
END:VCALENDAR