BEGIN:VCALENDAR
VERSION:2.0
PRODID:-//gyrobase/iCalendar//NONSGML v1.0//EN
BEGIN:VEVENT
LOCATION:5000 Euclid Ave.\,Cleveland\, \,Cleveland\, OH\, 44103
DTSTART;VALUE=DATE:20260530
DTEND;VALUE=DATE:20260531
SUMMARY:An Evening with John Cusack
DESCRIPTION:The actor accompanies a screening of Say Anything\, a film that helped launch his career. He'll participate in a Q&A after the screening. Doors open at 6:30 p.m. at the Agora.
LOCATION;ALTREP="https://www.clevescene.com/location/agora-theater-43643994":Agora Theater @ 5000 Euclid Ave.\,Cleveland\,OH  44103
CATEGORIES:DJ & Dance
END:VEVENT
END:VCALENDAR