BEGIN:VCALENDAR
VERSION:2.0
PRODID:-//gyrobase/iCalendar//NONSGML v1.0//EN
BEGIN:VEVENT
LOCATION:5000 Euclid Ave.\,Cleveland\, \,Cleveland\, OH\, 44103
DTSTART;VALUE=DATE:20260509
DTEND;VALUE=DATE:20260510
SUMMARY:Mac Demarco
DESCRIPTION:The indie singer-songwriter performs at 7 p.m. at the Agora.
LOCATION;ALTREP="https://www.clevescene.com/location/agora-theater-43643994":Agora Theater @ 5000 Euclid Ave.\,Cleveland\,OH  44103
CATEGORIES:DJ & Dance
END:VEVENT
END:VCALENDAR