BEGIN:VCALENDAR
VERSION:2.0
PRODID:-//gyrobase/iCalendar//NONSGML v1.0//EN
BEGIN:VEVENT
LOCATION:2325 Elm St.\,Cleveland\, \,Cleveland\, OH\, 44113
DTSTART;VALUE=DATE:20260523
DTEND;VALUE=DATE:20260524
SUMMARY:Between the Buried and Me
DESCRIPTION:The veteran metalcore band headlines a multi-band bill that includes Thank You Scientist and the World Is a Beautiful Place & I Am No Longer Afraid To Die. The show begins at 6:30 p.m. at Globe Iron.
LOCATION;ALTREP="https://www.clevescene.com/location/globe-iron-1432228":Globe Iron @ 2325 Elm St.\,Cleveland\,OH  44113
CATEGORIES:DJ & Dance
END:VEVENT
END:VCALENDAR