BEGIN:VCALENDAR
VERSION:2.0
PRODID:-//gyrobase/iCalendar//NONSGML v1.0//EN
BEGIN:VEVENT
LOCATION:1855 Ansel Road\,Cleveland\, \,Cleveland\, OH\, 44106
DTSTART;VALUE=DATE:20260502
DTEND;VALUE=DATE:20260503
SUMMARY:Swords and Sorcery: Fantasy Movies in Concert
DESCRIPTION:Tonight at 7:30 at the Maltz Performing Arts Center\, a 70-piece symphony orchestra with a chorus will play selections from The Lord of the Rings\, Harry Potter\, and Avatar\, How to Train Your Dragon\, Game of Thrones\, Princess Mononoke\, Spirited Away\, Hook\, and Willow.
LOCATION;ALTREP="https://www.clevescene.com/location/maltz-performing-arts-center-at-case-western-reserve-university-4668785":Maltz Performing Arts Center at Case Western Reserve University @ 1855 Ansel Road\,Cleveland\,OH  44106
CATEGORIES:Seasonal Special Happenings
END:VEVENT
END:VCALENDAR