BEGIN:VCALENDAR
VERSION:2.0
PRODID:-//gyrobase/iCalendar//NONSGML v1.0//EN
BEGIN:VEVENT
LOCATION:2401 Ontario St.\,Cleveland\, \,Cleveland\, OH\, 44115
DTSTART;VALUE=DATE:20260529
DTEND;VALUE=DATE:20260530
SUMMARY:Guardians vs. Boston Red Sox
DESCRIPTION:The Guardians take on the reliably competitive Boston Red Sox this weekend at Progressive Field. Tonight's game begins at 7:10\, and fireworks follow the game.
LOCATION;ALTREP="https://www.clevescene.com/location/progressive-field-1431577":Progressive Field @ 2401 Ontario St.\,Cleveland\,OH  44115
CATEGORIES:Seasonal Special Happenings
END:VEVENT
END:VCALENDAR