BEGIN:VCALENDAR
VERSION:2.0
PRODID:-//gyrobase/iCalendar//NONSGML v1.0//EN
BEGIN:VEVENT
LOCATION:2401 Ontario St.\,Cleveland\, \,Cleveland\, OH\, 44115
DTSTART;VALUE=DATE:20260525
DTEND;VALUE=DATE:20260526
SUMMARY:Guardians vs. Washington National
DESCRIPTION:The Washington National comes to Progressive Field for the one-and-only time this regular season. The three-game series kicks off with tonight's game that features a blanket giveaway. First pitch is at 6:10.
LOCATION;ALTREP="https://www.clevescene.com/location/progressive-field-1431577":Progressive Field @ 2401 Ontario St.\,Cleveland\,OH  44115
CATEGORIES:Classes & Workshops
END:VEVENT
END:VCALENDAR