BEGIN:VCALENDAR
VERSION:2.0
PRODID:-//gyrobase/iCalendar//NONSGML v1.0//EN
BEGIN:VEVENT
LOCATION:2401 Ontario St.\,Cleveland\, \,Cleveland\, OH\, 44115
DTSTART;VALUE=DATE:20260515
DTEND;VALUE=DATE:20260516
SUMMARY:Guardians vs. Cincinnati Reds
DESCRIPTION:The Guardians take on their national league rivals\, the Cincinnati Reds\, tonight at Progressive Field. The game serves as a celebration of the 2016 Cleveland team that made it all the way to the World Series. First-pitch is at 7:10\, and the two teams play again tomorrow and Sunday.
LOCATION;ALTREP="https://www.clevescene.com/location/progressive-field-1431577":Progressive Field @ 2401 Ontario St.\,Cleveland\,OH  44115
CATEGORIES:Seasonal Special Happenings
END:VEVENT
END:VCALENDAR