BEGIN:VCALENDAR
VERSION:2.0
PRODID:-//gyrobase/iCalendar//NONSGML v1.0//EN
BEGIN:VEVENT
LOCATION:11001 Euclid Ave.\,Cleveland\, \,Cleveland\, OH\, 44106
DTSTART;VALUE=DATE:20260516
DTEND;VALUE=DATE:20260517
SUMMARY:Beethoven's Fidelio
DESCRIPTION:Franz Welser-Möst leads the Cleveland Orchestra Chorus\, the Cleveland Orchestra and a slew of soloists as they take on Beethoven's only opera at this special event at Mandel Concert Hall. The performance begins at 7 p.m. at Mandel Concert Hall. It repeats at 7 p.m. on May 21 and 24 at the venue.
LOCATION;ALTREP="https://www.clevescene.com/location/severance-music-center-1432086":Severance Music Center @ 11001 Euclid Ave.\,Cleveland\,OH  44106
CATEGORIES:DJ & Dance
END:VEVENT
BEGIN:VEVENT
LOCATION:11001 Euclid Ave.\,Cleveland\, \,Cleveland\, OH\, 44106
DTSTART;VALUE=DATE:20260521
DTEND;VALUE=DATE:20260522
SUMMARY:Beethoven's Fidelio
DESCRIPTION:Franz Welser-Möst leads the Cleveland Orchestra Chorus\, the Cleveland Orchestra and a slew of soloists as they take on Beethoven's only opera at this special event at Mandel Concert Hall. The performance begins at 7 p.m. at Mandel Concert Hall. It repeats at 7 p.m. on May 21 and 24 at the venue.
LOCATION;ALTREP="https://www.clevescene.com/location/severance-music-center-1432086":Severance Music Center @ 11001 Euclid Ave.\,Cleveland\,OH  44106
CATEGORIES:DJ & Dance
END:VEVENT
END:VCALENDAR